BEGIN:VCALENDAR
VERSION:2.0
PRODID:-//Upper Hunter Community Services, Muswellbrook - ECPv6.15.20//NONSGML v1.0//EN
CALSCALE:GREGORIAN
METHOD:PUBLISH
X-WR-CALNAME:Upper Hunter Community Services, Muswellbrook
X-ORIGINAL-URL:https://uhcs.org.au
X-WR-CALDESC:Events for Upper Hunter Community Services, Muswellbrook
REFRESH-INTERVAL;VALUE=DURATION:PT1H
X-Robots-Tag:noindex
X-PUBLISHED-TTL:PT1H
BEGIN:VTIMEZONE
TZID:Australia/Sydney
BEGIN:STANDARD
TZOFFSETFROM:+1100
TZOFFSETTO:+1000
TZNAME:AEST
DTSTART:20250405T160000
END:STANDARD
BEGIN:DAYLIGHT
TZOFFSETFROM:+1000
TZOFFSETTO:+1100
TZNAME:AEDT
DTSTART:20251004T160000
END:DAYLIGHT
BEGIN:STANDARD
TZOFFSETFROM:+1100
TZOFFSETTO:+1000
TZNAME:AEST
DTSTART:20260404T160000
END:STANDARD
BEGIN:DAYLIGHT
TZOFFSETFROM:+1000
TZOFFSETTO:+1100
TZNAME:AEDT
DTSTART:20261003T160000
END:DAYLIGHT
BEGIN:STANDARD
TZOFFSETFROM:+1100
TZOFFSETTO:+1000
TZNAME:AEST
DTSTART:20270403T160000
END:STANDARD
BEGIN:DAYLIGHT
TZOFFSETFROM:+1000
TZOFFSETTO:+1100
TZNAME:AEDT
DTSTART:20271002T160000
END:DAYLIGHT
END:VTIMEZONE
BEGIN:VEVENT
DTSTART;TZID=Australia/Sydney:20260504T093000
DTEND;TZID=Australia/Sydney:20260504T120000
DTSTAMP:20260420T224626
CREATED:20260416T041607Z
LAST-MODIFIED:20260416T041725Z
UID:10000570-1777887000-1777896000@uhcs.org.au
SUMMARY:TOYBOX - Hebden
DESCRIPTION:
URL:https://uhcs.org.au/event/toybox-hebden-4/2026-05-04/
ATTACH;FMTTYPE=image/jpeg:https://uhcs.org.au/wp-content/uploads/2026/04/TOYBOX-TERM-2-CALENDAR-2026-updated-scaled.jpg
END:VEVENT
BEGIN:VEVENT
DTSTART;TZID=Australia/Sydney:20260518T093000
DTEND;TZID=Australia/Sydney:20260518T120000
DTSTAMP:20260420T224626
CREATED:20260416T041607Z
LAST-MODIFIED:20260416T041725Z
UID:10000571-1779096600-1779105600@uhcs.org.au
SUMMARY:TOYBOX - Hebden
DESCRIPTION:
URL:https://uhcs.org.au/event/toybox-hebden-4/2026-05-18/
ATTACH;FMTTYPE=image/jpeg:https://uhcs.org.au/wp-content/uploads/2026/04/TOYBOX-TERM-2-CALENDAR-2026-updated-scaled.jpg
END:VEVENT
BEGIN:VEVENT
DTSTART;TZID=Australia/Sydney:20260601T093000
DTEND;TZID=Australia/Sydney:20260601T120000
DTSTAMP:20260420T224626
CREATED:20260416T041607Z
LAST-MODIFIED:20260416T041725Z
UID:10000572-1780306200-1780315200@uhcs.org.au
SUMMARY:TOYBOX - Hebden
DESCRIPTION:
URL:https://uhcs.org.au/event/toybox-hebden-4/2026-06-01/
ATTACH;FMTTYPE=image/jpeg:https://uhcs.org.au/wp-content/uploads/2026/04/TOYBOX-TERM-2-CALENDAR-2026-updated-scaled.jpg
END:VEVENT
BEGIN:VEVENT
DTSTART;TZID=Australia/Sydney:20260615T093000
DTEND;TZID=Australia/Sydney:20260615T120000
DTSTAMP:20260420T224626
CREATED:20260416T041607Z
LAST-MODIFIED:20260416T041725Z
UID:10000573-1781515800-1781524800@uhcs.org.au
SUMMARY:TOYBOX - Hebden
DESCRIPTION:
URL:https://uhcs.org.au/event/toybox-hebden-4/2026-06-15/
ATTACH;FMTTYPE=image/jpeg:https://uhcs.org.au/wp-content/uploads/2026/04/TOYBOX-TERM-2-CALENDAR-2026-updated-scaled.jpg
END:VEVENT
BEGIN:VEVENT
DTSTART;TZID=Australia/Sydney:20260629T093000
DTEND;TZID=Australia/Sydney:20260629T120000
DTSTAMP:20260420T224626
CREATED:20260416T041607Z
LAST-MODIFIED:20260416T041725Z
UID:10000574-1782725400-1782734400@uhcs.org.au
SUMMARY:TOYBOX - Hebden
DESCRIPTION:
URL:https://uhcs.org.au/event/toybox-hebden-4/2026-06-29/
ATTACH;FMTTYPE=image/jpeg:https://uhcs.org.au/wp-content/uploads/2026/04/TOYBOX-TERM-2-CALENDAR-2026-updated-scaled.jpg
END:VEVENT
END:VCALENDAR