BEGIN:VCALENDAR
VERSION:2.0
PRODID:-//Upper Hunter Community Services, Muswellbrook - ECPv6.15.20//NONSGML v1.0//EN
CALSCALE:GREGORIAN
METHOD:PUBLISH
X-WR-CALNAME:Upper Hunter Community Services, Muswellbrook
X-ORIGINAL-URL:https://uhcs.org.au
X-WR-CALDESC:Events for Upper Hunter Community Services, Muswellbrook
REFRESH-INTERVAL;VALUE=DURATION:PT1H
X-Robots-Tag:noindex
X-PUBLISHED-TTL:PT1H
BEGIN:VTIMEZONE
TZID:Australia/Sydney
BEGIN:STANDARD
TZOFFSETFROM:+1100
TZOFFSETTO:+1000
TZNAME:AEST
DTSTART:20250405T160000
END:STANDARD
BEGIN:DAYLIGHT
TZOFFSETFROM:+1000
TZOFFSETTO:+1100
TZNAME:AEDT
DTSTART:20251004T160000
END:DAYLIGHT
BEGIN:STANDARD
TZOFFSETFROM:+1100
TZOFFSETTO:+1000
TZNAME:AEST
DTSTART:20260404T160000
END:STANDARD
BEGIN:DAYLIGHT
TZOFFSETFROM:+1000
TZOFFSETTO:+1100
TZNAME:AEDT
DTSTART:20261003T160000
END:DAYLIGHT
BEGIN:STANDARD
TZOFFSETFROM:+1100
TZOFFSETTO:+1000
TZNAME:AEST
DTSTART:20270403T160000
END:STANDARD
BEGIN:DAYLIGHT
TZOFFSETFROM:+1000
TZOFFSETTO:+1100
TZNAME:AEDT
DTSTART:20271002T160000
END:DAYLIGHT
END:VTIMEZONE
BEGIN:VEVENT
DTSTART;TZID=Australia/Sydney:20260423T093000
DTEND;TZID=Australia/Sydney:20260423T120000
DTSTAMP:20260420T224626
CREATED:20260416T042408Z
LAST-MODIFIED:20260416T042408Z
UID:10000613-1776936600-1776945600@uhcs.org.au
SUMMARY:TOYBOX - Merriwa
DESCRIPTION:
URL:https://uhcs.org.au/event/toybox-merriwa/2026-04-23/
ATTACH;FMTTYPE=image/jpeg:https://uhcs.org.au/wp-content/uploads/2026/04/TOYBOX-TERM-2-CALENDAR-2026-updated-scaled.jpg
END:VEVENT
BEGIN:VEVENT
DTSTART;TZID=Australia/Sydney:20260507T093000
DTEND;TZID=Australia/Sydney:20260507T120000
DTSTAMP:20260420T224626
CREATED:20260416T042408Z
LAST-MODIFIED:20260416T042408Z
UID:10000614-1778146200-1778155200@uhcs.org.au
SUMMARY:TOYBOX - Merriwa
DESCRIPTION:
URL:https://uhcs.org.au/event/toybox-merriwa/2026-05-07/
ATTACH;FMTTYPE=image/jpeg:https://uhcs.org.au/wp-content/uploads/2026/04/TOYBOX-TERM-2-CALENDAR-2026-updated-scaled.jpg
END:VEVENT
BEGIN:VEVENT
DTSTART;TZID=Australia/Sydney:20260521T093000
DTEND;TZID=Australia/Sydney:20260521T120000
DTSTAMP:20260420T224626
CREATED:20260416T042408Z
LAST-MODIFIED:20260416T042408Z
UID:10000615-1779355800-1779364800@uhcs.org.au
SUMMARY:TOYBOX - Merriwa
DESCRIPTION:
URL:https://uhcs.org.au/event/toybox-merriwa/2026-05-21/
ATTACH;FMTTYPE=image/jpeg:https://uhcs.org.au/wp-content/uploads/2026/04/TOYBOX-TERM-2-CALENDAR-2026-updated-scaled.jpg
END:VEVENT
BEGIN:VEVENT
DTSTART;TZID=Australia/Sydney:20260604T093000
DTEND;TZID=Australia/Sydney:20260604T120000
DTSTAMP:20260420T224626
CREATED:20260416T042408Z
LAST-MODIFIED:20260416T042408Z
UID:10000616-1780565400-1780574400@uhcs.org.au
SUMMARY:TOYBOX - Merriwa
DESCRIPTION:
URL:https://uhcs.org.au/event/toybox-merriwa/2026-06-04/
ATTACH;FMTTYPE=image/jpeg:https://uhcs.org.au/wp-content/uploads/2026/04/TOYBOX-TERM-2-CALENDAR-2026-updated-scaled.jpg
END:VEVENT
BEGIN:VEVENT
DTSTART;TZID=Australia/Sydney:20260618T093000
DTEND;TZID=Australia/Sydney:20260618T120000
DTSTAMP:20260420T224626
CREATED:20260416T042408Z
LAST-MODIFIED:20260416T042408Z
UID:10000617-1781775000-1781784000@uhcs.org.au
SUMMARY:TOYBOX - Merriwa
DESCRIPTION:
URL:https://uhcs.org.au/event/toybox-merriwa/2026-06-18/
ATTACH;FMTTYPE=image/jpeg:https://uhcs.org.au/wp-content/uploads/2026/04/TOYBOX-TERM-2-CALENDAR-2026-updated-scaled.jpg
END:VEVENT
BEGIN:VEVENT
DTSTART;TZID=Australia/Sydney:20260702T093000
DTEND;TZID=Australia/Sydney:20260702T120000
DTSTAMP:20260420T224626
CREATED:20260416T042408Z
LAST-MODIFIED:20260416T042408Z
UID:10000618-1782984600-1782993600@uhcs.org.au
SUMMARY:TOYBOX - Merriwa
DESCRIPTION:
URL:https://uhcs.org.au/event/toybox-merriwa/2026-07-02/
ATTACH;FMTTYPE=image/jpeg:https://uhcs.org.au/wp-content/uploads/2026/04/TOYBOX-TERM-2-CALENDAR-2026-updated-scaled.jpg
END:VEVENT
END:VCALENDAR