BEGIN:VCALENDAR
VERSION:2.0
PRODID:-//Upper Hunter Community Services, Muswellbrook - ECPv6.15.20//NONSGML v1.0//EN
CALSCALE:GREGORIAN
METHOD:PUBLISH
X-WR-CALNAME:Upper Hunter Community Services, Muswellbrook
X-ORIGINAL-URL:https://uhcs.org.au
X-WR-CALDESC:Events for Upper Hunter Community Services, Muswellbrook
REFRESH-INTERVAL;VALUE=DURATION:PT1H
X-Robots-Tag:noindex
X-PUBLISHED-TTL:PT1H
BEGIN:VTIMEZONE
TZID:Australia/Sydney
BEGIN:STANDARD
TZOFFSETFROM:+1100
TZOFFSETTO:+1000
TZNAME:AEST
DTSTART:20250405T160000
END:STANDARD
BEGIN:DAYLIGHT
TZOFFSETFROM:+1000
TZOFFSETTO:+1100
TZNAME:AEDT
DTSTART:20251004T160000
END:DAYLIGHT
BEGIN:STANDARD
TZOFFSETFROM:+1100
TZOFFSETTO:+1000
TZNAME:AEST
DTSTART:20260404T160000
END:STANDARD
BEGIN:DAYLIGHT
TZOFFSETFROM:+1000
TZOFFSETTO:+1100
TZNAME:AEDT
DTSTART:20261003T160000
END:DAYLIGHT
BEGIN:STANDARD
TZOFFSETFROM:+1100
TZOFFSETTO:+1000
TZNAME:AEST
DTSTART:20270403T160000
END:STANDARD
BEGIN:DAYLIGHT
TZOFFSETFROM:+1000
TZOFFSETTO:+1100
TZNAME:AEDT
DTSTART:20271002T160000
END:DAYLIGHT
END:VTIMEZONE
BEGIN:VEVENT
DTSTART;TZID=Australia/Sydney:20260429T093000
DTEND;TZID=Australia/Sydney:20260429T120000
DTSTAMP:20260421T001846
CREATED:20260416T042938Z
LAST-MODIFIED:20260416T042938Z
UID:10000630-1777455000-1777464000@uhcs.org.au
SUMMARY:TOYBOX - Gundy
DESCRIPTION:
URL:https://uhcs.org.au/event/toybox-gundy/2026-04-29/
ATTACH;FMTTYPE=image/jpeg:https://uhcs.org.au/wp-content/uploads/2026/04/TOYBOX-TERM-2-CALENDAR-2026-updated-scaled.jpg
END:VEVENT
BEGIN:VEVENT
DTSTART;TZID=Australia/Sydney:20260513T093000
DTEND;TZID=Australia/Sydney:20260513T120000
DTSTAMP:20260421T001846
CREATED:20260416T042938Z
LAST-MODIFIED:20260416T042938Z
UID:10000631-1778664600-1778673600@uhcs.org.au
SUMMARY:TOYBOX - Gundy
DESCRIPTION:
URL:https://uhcs.org.au/event/toybox-gundy/2026-05-13/
ATTACH;FMTTYPE=image/jpeg:https://uhcs.org.au/wp-content/uploads/2026/04/TOYBOX-TERM-2-CALENDAR-2026-updated-scaled.jpg
END:VEVENT
BEGIN:VEVENT
DTSTART;TZID=Australia/Sydney:20260527T093000
DTEND;TZID=Australia/Sydney:20260527T120000
DTSTAMP:20260421T001846
CREATED:20260416T042938Z
LAST-MODIFIED:20260416T042938Z
UID:10000632-1779874200-1779883200@uhcs.org.au
SUMMARY:TOYBOX - Gundy
DESCRIPTION:
URL:https://uhcs.org.au/event/toybox-gundy/2026-05-27/
ATTACH;FMTTYPE=image/jpeg:https://uhcs.org.au/wp-content/uploads/2026/04/TOYBOX-TERM-2-CALENDAR-2026-updated-scaled.jpg
END:VEVENT
BEGIN:VEVENT
DTSTART;TZID=Australia/Sydney:20260610T093000
DTEND;TZID=Australia/Sydney:20260610T120000
DTSTAMP:20260421T001846
CREATED:20260416T042938Z
LAST-MODIFIED:20260416T042938Z
UID:10000633-1781083800-1781092800@uhcs.org.au
SUMMARY:TOYBOX - Gundy
DESCRIPTION:
URL:https://uhcs.org.au/event/toybox-gundy/2026-06-10/
ATTACH;FMTTYPE=image/jpeg:https://uhcs.org.au/wp-content/uploads/2026/04/TOYBOX-TERM-2-CALENDAR-2026-updated-scaled.jpg
END:VEVENT
BEGIN:VEVENT
DTSTART;TZID=Australia/Sydney:20260624T093000
DTEND;TZID=Australia/Sydney:20260624T120000
DTSTAMP:20260421T001846
CREATED:20260416T042938Z
LAST-MODIFIED:20260416T042938Z
UID:10000634-1782293400-1782302400@uhcs.org.au
SUMMARY:TOYBOX - Gundy
DESCRIPTION:
URL:https://uhcs.org.au/event/toybox-gundy/2026-06-24/
ATTACH;FMTTYPE=image/jpeg:https://uhcs.org.au/wp-content/uploads/2026/04/TOYBOX-TERM-2-CALENDAR-2026-updated-scaled.jpg
END:VEVENT
END:VCALENDAR