BEGIN:VCALENDAR
VERSION:2.0
PRODID:-//Upper Hunter Community Services, Muswellbrook - ECPv6.15.20//NONSGML v1.0//EN
CALSCALE:GREGORIAN
METHOD:PUBLISH
X-WR-CALNAME:Upper Hunter Community Services, Muswellbrook
X-ORIGINAL-URL:https://uhcs.org.au
X-WR-CALDESC:Events for Upper Hunter Community Services, Muswellbrook
REFRESH-INTERVAL;VALUE=DURATION:PT1H
X-Robots-Tag:noindex
X-PUBLISHED-TTL:PT1H
BEGIN:VTIMEZONE
TZID:Australia/Sydney
BEGIN:STANDARD
TZOFFSETFROM:+1100
TZOFFSETTO:+1000
TZNAME:AEST
DTSTART:20250405T160000
END:STANDARD
BEGIN:DAYLIGHT
TZOFFSETFROM:+1000
TZOFFSETTO:+1100
TZNAME:AEDT
DTSTART:20251004T160000
END:DAYLIGHT
BEGIN:STANDARD
TZOFFSETFROM:+1100
TZOFFSETTO:+1000
TZNAME:AEST
DTSTART:20260404T160000
END:STANDARD
BEGIN:DAYLIGHT
TZOFFSETFROM:+1000
TZOFFSETTO:+1100
TZNAME:AEDT
DTSTART:20261003T160000
END:DAYLIGHT
BEGIN:STANDARD
TZOFFSETFROM:+1100
TZOFFSETTO:+1000
TZNAME:AEST
DTSTART:20270403T160000
END:STANDARD
BEGIN:DAYLIGHT
TZOFFSETFROM:+1000
TZOFFSETTO:+1100
TZNAME:AEDT
DTSTART:20271002T160000
END:DAYLIGHT
END:VTIMEZONE
BEGIN:VEVENT
DTSTART;TZID=Australia/Sydney:20260430T093000
DTEND;TZID=Australia/Sydney:20260430T120000
DTSTAMP:20260421T020813
CREATED:20260416T043140Z
LAST-MODIFIED:20260416T043140Z
UID:10000635-1777541400-1777550400@uhcs.org.au
SUMMARY:TOYBOX - Murrurundi
DESCRIPTION:
URL:https://uhcs.org.au/event/toybox-murrurundi-4/2026-04-30/
ATTACH;FMTTYPE=image/jpeg:https://uhcs.org.au/wp-content/uploads/2026/04/TOYBOX-TERM-2-CALENDAR-2026-updated-scaled.jpg
END:VEVENT
BEGIN:VEVENT
DTSTART;TZID=Australia/Sydney:20260514T093000
DTEND;TZID=Australia/Sydney:20260514T120000
DTSTAMP:20260421T020813
CREATED:20260416T043140Z
LAST-MODIFIED:20260416T043140Z
UID:10000636-1778751000-1778760000@uhcs.org.au
SUMMARY:TOYBOX - Murrurundi
DESCRIPTION:
URL:https://uhcs.org.au/event/toybox-murrurundi-4/2026-05-14/
ATTACH;FMTTYPE=image/jpeg:https://uhcs.org.au/wp-content/uploads/2026/04/TOYBOX-TERM-2-CALENDAR-2026-updated-scaled.jpg
END:VEVENT
BEGIN:VEVENT
DTSTART;TZID=Australia/Sydney:20260528T093000
DTEND;TZID=Australia/Sydney:20260528T120000
DTSTAMP:20260421T020813
CREATED:20260416T043140Z
LAST-MODIFIED:20260416T043140Z
UID:10000637-1779960600-1779969600@uhcs.org.au
SUMMARY:TOYBOX - Murrurundi
DESCRIPTION:
URL:https://uhcs.org.au/event/toybox-murrurundi-4/2026-05-28/
ATTACH;FMTTYPE=image/jpeg:https://uhcs.org.au/wp-content/uploads/2026/04/TOYBOX-TERM-2-CALENDAR-2026-updated-scaled.jpg
END:VEVENT
BEGIN:VEVENT
DTSTART;TZID=Australia/Sydney:20260611T093000
DTEND;TZID=Australia/Sydney:20260611T120000
DTSTAMP:20260421T020813
CREATED:20260416T043140Z
LAST-MODIFIED:20260416T043140Z
UID:10000638-1781170200-1781179200@uhcs.org.au
SUMMARY:TOYBOX - Murrurundi
DESCRIPTION:
URL:https://uhcs.org.au/event/toybox-murrurundi-4/2026-06-11/
ATTACH;FMTTYPE=image/jpeg:https://uhcs.org.au/wp-content/uploads/2026/04/TOYBOX-TERM-2-CALENDAR-2026-updated-scaled.jpg
END:VEVENT
BEGIN:VEVENT
DTSTART;TZID=Australia/Sydney:20260625T093000
DTEND;TZID=Australia/Sydney:20260625T120000
DTSTAMP:20260421T020813
CREATED:20260416T043140Z
LAST-MODIFIED:20260416T043140Z
UID:10000639-1782379800-1782388800@uhcs.org.au
SUMMARY:TOYBOX - Murrurundi
DESCRIPTION:
URL:https://uhcs.org.au/event/toybox-murrurundi-4/2026-06-25/
ATTACH;FMTTYPE=image/jpeg:https://uhcs.org.au/wp-content/uploads/2026/04/TOYBOX-TERM-2-CALENDAR-2026-updated-scaled.jpg
END:VEVENT
END:VCALENDAR