BEGIN:VCALENDAR
VERSION:2.0
PRODID:-//Upper Hunter Community Services, Muswellbrook - ECPv6.15.20//NONSGML v1.0//EN
CALSCALE:GREGORIAN
METHOD:PUBLISH
X-WR-CALNAME:Upper Hunter Community Services, Muswellbrook
X-ORIGINAL-URL:https://uhcs.org.au
X-WR-CALDESC:Events for Upper Hunter Community Services, Muswellbrook
REFRESH-INTERVAL;VALUE=DURATION:PT1H
X-Robots-Tag:noindex
X-PUBLISHED-TTL:PT1H
BEGIN:VTIMEZONE
TZID:Australia/Sydney
BEGIN:STANDARD
TZOFFSETFROM:+1100
TZOFFSETTO:+1000
TZNAME:AEST
DTSTART:20250405T160000
END:STANDARD
BEGIN:DAYLIGHT
TZOFFSETFROM:+1000
TZOFFSETTO:+1100
TZNAME:AEDT
DTSTART:20251004T160000
END:DAYLIGHT
BEGIN:STANDARD
TZOFFSETFROM:+1100
TZOFFSETTO:+1000
TZNAME:AEST
DTSTART:20260404T160000
END:STANDARD
BEGIN:DAYLIGHT
TZOFFSETFROM:+1000
TZOFFSETTO:+1100
TZNAME:AEDT
DTSTART:20261003T160000
END:DAYLIGHT
BEGIN:STANDARD
TZOFFSETFROM:+1100
TZOFFSETTO:+1000
TZNAME:AEST
DTSTART:20270403T160000
END:STANDARD
BEGIN:DAYLIGHT
TZOFFSETFROM:+1000
TZOFFSETTO:+1100
TZNAME:AEDT
DTSTART:20271002T160000
END:DAYLIGHT
END:VTIMEZONE
BEGIN:VEVENT
DTSTART;TZID=Australia/Sydney:20260505T100000
DTEND;TZID=Australia/Sydney:20260505T120000
DTSTAMP:20260421T020814
CREATED:20260416T044430Z
LAST-MODIFIED:20260416T044430Z
UID:10000650-1777975200-1777982400@uhcs.org.au
SUMMARY:Shark Cage
DESCRIPTION:
URL:https://uhcs.org.au/event/shark-cage/2026-05-05/
ATTACH;FMTTYPE=image/jpeg:https://uhcs.org.au/wp-content/uploads/2026/04/Shark-Cage.jpg
END:VEVENT
BEGIN:VEVENT
DTSTART;TZID=Australia/Sydney:20260512T100000
DTEND;TZID=Australia/Sydney:20260512T120000
DTSTAMP:20260421T020814
CREATED:20260416T044430Z
LAST-MODIFIED:20260416T044430Z
UID:10000651-1778580000-1778587200@uhcs.org.au
SUMMARY:Shark Cage
DESCRIPTION:
URL:https://uhcs.org.au/event/shark-cage/2026-05-12/
ATTACH;FMTTYPE=image/jpeg:https://uhcs.org.au/wp-content/uploads/2026/04/Shark-Cage.jpg
END:VEVENT
BEGIN:VEVENT
DTSTART;TZID=Australia/Sydney:20260519T100000
DTEND;TZID=Australia/Sydney:20260519T120000
DTSTAMP:20260421T020814
CREATED:20260416T044430Z
LAST-MODIFIED:20260416T044430Z
UID:10000652-1779184800-1779192000@uhcs.org.au
SUMMARY:Shark Cage
DESCRIPTION:
URL:https://uhcs.org.au/event/shark-cage/2026-05-19/
ATTACH;FMTTYPE=image/jpeg:https://uhcs.org.au/wp-content/uploads/2026/04/Shark-Cage.jpg
END:VEVENT
BEGIN:VEVENT
DTSTART;TZID=Australia/Sydney:20260526T100000
DTEND;TZID=Australia/Sydney:20260526T120000
DTSTAMP:20260421T020814
CREATED:20260416T044430Z
LAST-MODIFIED:20260416T044430Z
UID:10000653-1779789600-1779796800@uhcs.org.au
SUMMARY:Shark Cage
DESCRIPTION:
URL:https://uhcs.org.au/event/shark-cage/2026-05-26/
ATTACH;FMTTYPE=image/jpeg:https://uhcs.org.au/wp-content/uploads/2026/04/Shark-Cage.jpg
END:VEVENT
BEGIN:VEVENT
DTSTART;TZID=Australia/Sydney:20260602T100000
DTEND;TZID=Australia/Sydney:20260602T120000
DTSTAMP:20260421T020814
CREATED:20260416T044430Z
LAST-MODIFIED:20260416T044430Z
UID:10000654-1780394400-1780401600@uhcs.org.au
SUMMARY:Shark Cage
DESCRIPTION:
URL:https://uhcs.org.au/event/shark-cage/2026-06-02/
ATTACH;FMTTYPE=image/jpeg:https://uhcs.org.au/wp-content/uploads/2026/04/Shark-Cage.jpg
END:VEVENT
BEGIN:VEVENT
DTSTART;TZID=Australia/Sydney:20260609T100000
DTEND;TZID=Australia/Sydney:20260609T120000
DTSTAMP:20260421T020814
CREATED:20260416T044430Z
LAST-MODIFIED:20260416T044430Z
UID:10000655-1780999200-1781006400@uhcs.org.au
SUMMARY:Shark Cage
DESCRIPTION:
URL:https://uhcs.org.au/event/shark-cage/2026-06-09/
ATTACH;FMTTYPE=image/jpeg:https://uhcs.org.au/wp-content/uploads/2026/04/Shark-Cage.jpg
END:VEVENT
BEGIN:VEVENT
DTSTART;TZID=Australia/Sydney:20260616T100000
DTEND;TZID=Australia/Sydney:20260616T120000
DTSTAMP:20260421T020814
CREATED:20260416T044430Z
LAST-MODIFIED:20260416T044430Z
UID:10000656-1781604000-1781611200@uhcs.org.au
SUMMARY:Shark Cage
DESCRIPTION:
URL:https://uhcs.org.au/event/shark-cage/2026-06-16/
ATTACH;FMTTYPE=image/jpeg:https://uhcs.org.au/wp-content/uploads/2026/04/Shark-Cage.jpg
END:VEVENT
BEGIN:VEVENT
DTSTART;TZID=Australia/Sydney:20260623T100000
DTEND;TZID=Australia/Sydney:20260623T120000
DTSTAMP:20260421T020814
CREATED:20260416T044430Z
LAST-MODIFIED:20260416T044430Z
UID:10000657-1782208800-1782216000@uhcs.org.au
SUMMARY:Shark Cage
DESCRIPTION:
URL:https://uhcs.org.au/event/shark-cage/2026-06-23/
ATTACH;FMTTYPE=image/jpeg:https://uhcs.org.au/wp-content/uploads/2026/04/Shark-Cage.jpg
END:VEVENT
END:VCALENDAR